BEGIN:VCALENDAR
VERSION:2.0
PRODID:icalendar-ruby
CALSCALE:GREGORIAN
METHOD:PUBLISH
BEGIN:VEVENT
DTSTAMP:20260421T012129Z
UID:101-2712616@northdouglaschurch.com
DTSTART:20260802T173000Z
DTEND:20260802T183000Z
CLASS:PUBLIC
CREATED:20260420T162801
DESCRIPTION:We begin worship at 10:30am\nChildren will be in the service fo
 r the music portion and dismissed to the gymnasium for their teaching less
 on. Parents please pick up your kids in the gym.
LAST-MODIFIED:20260420T162801
LOCATION:
SUMMARY:In-Person Worship Service
URL;VALUE=URI:https://www.northdouglaschurch.com/events/in-person-worship-s
 ervice/2026-08-02
ATTACH;FILENAME=crowd celebrating (2).jpg;FMTTYPE=image/jpeg:https://dq5pwp
 g1q8ru0.cloudfront.net/2021/06/04/15/16/13/9ce8d7fe-336a-4da4-a0a0-f5b1f2a
 df738/crowd%20celebrating%20(2).jpg
END:VEVENT
END:VCALENDAR
