BEGIN:VCALENDAR
VERSION:2.0
PRODID:icalendar-ruby
CALSCALE:GREGORIAN
METHOD:PUBLISH
BEGIN:VEVENT
DTSTAMP:20260422T195124Z
UID:168-2731073@northdouglaschurch.com
DTSTART:20260923T210000Z
DTEND:20260923T230000Z
CLASS:PUBLIC
CREATED:20260422T122224
DESCRIPTION:
LAST-MODIFIED:20260422T122224
LOCATION:NDC Prayer room
SUMMARY:Knit & Natter
URL;VALUE=URI:https://www.northdouglaschurch.com/events/knit-natter/2026-09
 -23
ATTACH;FILENAME=6.jpg;FMTTYPE=image/jpeg:https://dq5pwpg1q8ru0.cloudfront.n
 et/2025/09/24/18/45/58/3423ad54-2ab2-4345-b082-285f72d22945/6.jpg
END:VEVENT
END:VCALENDAR
