BEGIN:VCALENDAR
VERSION:2.0
PRODID:icalendar-ruby
CALSCALE:GREGORIAN
METHOD:PUBLISH
BEGIN:VEVENT
DTSTAMP:20260423T005935Z
UID:168-2732846@northdouglaschurch.com
DTSTART:20261014T210000Z
DTEND:20261014T230000Z
CLASS:PUBLIC
CREATED:20260422T151647
DESCRIPTION:
LAST-MODIFIED:20260422T151647
LOCATION:NDC Prayer room
SUMMARY:Knit & Natter
URL;VALUE=URI:https://www.northdouglaschurch.com/events/knit-natter/2026-10
 -14
ATTACH;FILENAME=6.jpg;FMTTYPE=image/jpeg:https://dq5pwpg1q8ru0.cloudfront.n
 et/2025/09/24/18/45/58/3423ad54-2ab2-4345-b082-285f72d22945/6.jpg
END:VEVENT
END:VCALENDAR
