BEGIN:VCALENDAR
VERSION:2.0
PRODID:icalendar-ruby
CALSCALE:GREGORIAN
METHOD:PUBLISH
BEGIN:VEVENT
DTSTAMP:20260423T061334Z
UID:168-2734619@northdouglaschurch.com
DTSTART:20261104T220000Z
DTEND:20261105T000000Z
CLASS:PUBLIC
CREATED:20260422T180837
DESCRIPTION:
LAST-MODIFIED:20260422T180837
LOCATION:NDC Prayer room
SUMMARY:Knit & Natter
URL;VALUE=URI:https://www.northdouglaschurch.com/events/knit-natter/2026-11
 -04
ATTACH;FILENAME=6.jpg;FMTTYPE=image/jpeg:https://dq5pwpg1q8ru0.cloudfront.n
 et/2025/09/24/18/45/58/3423ad54-2ab2-4345-b082-285f72d22945/6.jpg
END:VEVENT
END:VCALENDAR
