BEGIN:VCALENDAR
VERSION:2.0
PRODID:icalendar-ruby
CALSCALE:GREGORIAN
METHOD:PUBLISH
BEGIN:VEVENT
DTSTAMP:20260424T161356Z
UID:149-2748637@northdouglaschurch.com
DTSTART:20260823T010000Z
DTEND:20260823T030000Z
CLASS:PUBLIC
CREATED:20260424T063253
DESCRIPTION:
LAST-MODIFIED:20260424T063253
LOCATION:NDC Gym
SUMMARY:Men's Basketball
URL;VALUE=URI:https://www.northdouglaschurch.com/events/mens-basketball--14
 9/2026-08-22
ATTACH;FILENAME=9.jpg;FMTTYPE=image/jpeg:https://dq5pwpg1q8ru0.cloudfront.n
 et/2024/08/01/22/54/32/213017b3-3a38-45f6-a0c6-ca41de471ef0/9.jpg
END:VEVENT
END:VCALENDAR
