BEGIN:VCALENDAR
VERSION:2.0
PRODID:icalendar-ruby
CALSCALE:GREGORIAN
METHOD:PUBLISH
BEGIN:VEVENT
DTSTAMP:20260425T163501Z
UID:83-2760168@northdouglaschurch.com
DTSTART:20261030T020000Z
DTEND:20261030T023000Z
CLASS:PUBLIC
CREATED:20260425T085717
DESCRIPTION:Online Prayer Group
LAST-MODIFIED:20260425T085717
LOCATION:Contact the church office for online info and access code
SUMMARY:Online Prayer Group
URL;VALUE=URI:https://www.northdouglaschurch.com/events/online-prayer-group
 /2026-10-29
ATTACH;FILENAME=5.jpg;FMTTYPE=image/jpeg:https://dq5pwpg1q8ru0.cloudfront.n
 et/2025/09/18/21/01/15/971150ca-5fbf-4d71-806c-d831e3d366e4/5.jpg
END:VEVENT
END:VCALENDAR
