BEGIN:VCALENDAR
VERSION:2.0
PRODID:icalendar-ruby
CALSCALE:GREGORIAN
METHOD:PUBLISH
BEGIN:VEVENT
DTSTAMP:20260422T015229Z
UID:178-2724010@northdouglaschurch.com
DTSTART:20260618T010000Z
DTEND:20260618T030000Z
CLASS:PUBLIC
CREATED:20260421T164046
DESCRIPTION:Come and join us for a weekly Bible study where we gather to re
 ad the word of God inviting the Holy Spirit to guide us into all truth. We
  will be utilizing a Daily Bible format with digestible daily readings of 
 approximately 15-20 minutes broken into chapters from the Old Testament\, 
 New Testament\, Psalms and Proverbs. Our desire is to know God and to know
  who we are IN Him. “
LAST-MODIFIED:20260421T164046
LOCATION:NDC Dining Room
SUMMARY:Read the Bible in a year
URL;VALUE=URI:https://www.northdouglaschurch.com/events/read-the-bible-in-a
 -year/2026-06-17
ATTACH;FILENAME=Untitled-Presentation.jpg;FMTTYPE=image/jpeg:https://dq5pwp
 g1q8ru0.cloudfront.net/2026/04/20/00/28/04/9622e976-e342-4ab7-9565-5c1e3c3
 d732d/Untitled-Presentation.jpg
END:VEVENT
END:VCALENDAR
