BEGIN:VCALENDAR
VERSION:2.0
PRODID:icalendar-ruby
CALSCALE:GREGORIAN
METHOD:PUBLISH
BEGIN:VEVENT
DTSTAMP:20260425T125431Z
UID:160-2757611@northdouglaschurch.com
DTSTART:20261102T020000Z
DTEND:20261102T033000Z
CLASS:PUBLIC
CREATED:20260425T033515
DESCRIPTION:
LAST-MODIFIED:20260425T033515
LOCATION:675 Jolly Place
SUMMARY:Sunday Night Service
URL;VALUE=URI:https://www.northdouglaschurch.com/events/sunday-night-servic
 e/2026-11-01
ATTACH;FILENAME=sunday-Night-service.jpg;FMTTYPE=image/jpeg:https://dq5pwpg
 1q8ru0.cloudfront.net/2025/01/16/23/15/07/d14e96a1-1d22-47fe-9fb7-8ebfa53a
 0f97/sunday-Night-service.jpg
END:VEVENT
END:VCALENDAR
