BEGIN:VCALENDAR
VERSION:2.0
PRODID:icalendar-ruby
CALSCALE:GREGORIAN
METHOD:PUBLISH
BEGIN:VEVENT
DTSTAMP:20260423T020843Z
UID:5-2733270@northdouglaschurch.com
DTSTART:20261025T173000Z
DTEND:20261025T183000Z
CLASS:PUBLIC
CREATED:20260422T180834
DESCRIPTION:Online Sunday Services can be found on this webpage under the S
 ermons tab\, on Youtube and Facebook.  Simply search for North Douglas Ch
 urch.  Don't forget to like our page or subscribe to our channel.  Leave
  a comment and we will pray for your prayer request. \nA special playlist
  on Youtube as been set up to include worship music with lyrics\, children
 's video messages\, announcements and sermon.  Check it out here.
LAST-MODIFIED:20260422T180834
LOCATION:Online
SUMMARY:Sunday Sermons are available Online
URL;VALUE=URI:https://www.northdouglaschurch.com/events/sunday-sermons-are-
 available-online/2026-10-25
ATTACH;FILENAME=dev-benjamin-voIzq8LEdlo-unsplash.jpg;FMTTYPE=image/jpeg:ht
 tps://dq5pwpg1q8ru0.cloudfront.net/2020/10/15/14/59/01/c38c3a80-c8bf-4825-
 8bf3-d656abebe686/dev-benjamin-voIzq8LEdlo-unsplash.jpg
ATTACH;FILENAME=greyson-joralemon-299984-unsplash.jpg;FMTTYPE=image/jpeg:ht
 tps://dq5pwpg1q8ru0.cloudfront.net/2019/04/05/14/00/25/06c92548-adf2-4e43-
 9d9e-d69e5a297608/greyson-joralemon-299984-unsplash.jpg
END:VEVENT
END:VCALENDAR
